BEGIN:VCALENDAR
VERSION:2.0
PRODID:-//DayTrader Canada - ECPv6.15.18//NONSGML v1.0//EN
CALSCALE:GREGORIAN
METHOD:PUBLISH
X-ORIGINAL-URL:https://www.daytradercanada.com
X-WR-CALDESC:Évènements pour DayTrader Canada
REFRESH-INTERVAL;VALUE=DURATION:PT1H
X-Robots-Tag:noindex
X-PUBLISHED-TTL:PT1H
BEGIN:VTIMEZONE
TZID:America/Toronto
BEGIN:DAYLIGHT
TZOFFSETFROM:-0500
TZOFFSETTO:-0400
TZNAME:EDT
DTSTART:20240310T070000
END:DAYLIGHT
BEGIN:STANDARD
TZOFFSETFROM:-0400
TZOFFSETTO:-0500
TZNAME:EST
DTSTART:20241103T060000
END:STANDARD
BEGIN:DAYLIGHT
TZOFFSETFROM:-0500
TZOFFSETTO:-0400
TZNAME:EDT
DTSTART:20250309T070000
END:DAYLIGHT
BEGIN:STANDARD
TZOFFSETFROM:-0400
TZOFFSETTO:-0500
TZNAME:EST
DTSTART:20251102T060000
END:STANDARD
BEGIN:DAYLIGHT
TZOFFSETFROM:-0500
TZOFFSETTO:-0400
TZNAME:EDT
DTSTART:20260308T070000
END:DAYLIGHT
BEGIN:STANDARD
TZOFFSETFROM:-0400
TZOFFSETTO:-0500
TZNAME:EST
DTSTART:20261101T060000
END:STANDARD
END:VTIMEZONE
BEGIN:VEVENT
DTSTART;TZID=America/Toronto:20250305T103000
DTEND;TZID=America/Toronto:20250305T113000
DTSTAMP:20260419T152308
CREATED:20250211T162310Z
LAST-MODIFIED:20250224T172306Z
UID:37065-1741170600-1741174200@www.daytradercanada.com
SUMMARY:Séance d’Analyse Forex en Direct - Événement Spécial et Gratuit
DESCRIPTION:Vous cherchez à profiter des nombreuses opportunités du palpitant marché du Forex ? Ne manquez pas notre Séance d’Analyse Forex en Direct\, gratuite et ouverte à tous\, qui se tiendra le mercredi 5 mars\, de 10h30 à 11h30. \nGuidé par notre expert\, vous plongerez au cœur des tendances actuelles du marché des devises. Cette session interactive vous permettra d’apprendre à interpréter les mouvements du marché en temps réel et à prendre des décisions éclairées pour maximiser vos profits. Que vous soyez débutant ou trader expérimenté\, cette analyse en direct vous donnera les outils pour mieux naviguer dans l’univers Forex. \nInscrivez-vous dès maintenant et ne manquez pas cette occasion unique de perfectionner vos compétences de trading! \nInscription
URL:https://www.daytradercanada.com/evenement/seance-danalyse-forex-en-direct-evenement-special-et-gratuit-5/
LOCATION:En ligne
CATEGORIES:Webinaires
ATTACH;FMTTYPE=image/png:/wp-content/uploads/2024/10/Forex-seance-gratuite-banniere-petite.png
END:VEVENT
BEGIN:VEVENT
DTSTART;TZID=America/Toronto:20250312T120000
DTEND;TZID=America/Toronto:20250312T130000
DTSTAMP:20260419T152308
CREATED:20241209T201328Z
LAST-MODIFIED:20250224T172345Z
UID:36758-1741780800-1741784400@www.daytradercanada.com
SUMMARY:WEBINAIRE GRATUIT SUR LES ACTIONS
DESCRIPTION:Ce webinaire vous proposera un survol complet de l’investissement actif à toute personne voulant gérer ses investissements. Le conférencier traitera de différents sujets incluant les méthodes d’analyse\, les configurations des chandeliers japonais\, les critères de validation des écarts (gap)\, et bien plus. \nInscription
URL:https://www.daytradercanada.com/evenement/webinaire-gratuit-sur-les-actions-18/
LOCATION:En ligne
CATEGORIES:Webinaires
ATTACH;FMTTYPE=image/png:/wp-content/uploads/2022/11/dtdr_bann_webinaire_vert.png
ORGANIZER;CN="DayTrader Canada":MAILTO:reception@daytradercanada.com
END:VEVENT
BEGIN:VEVENT
DTSTART;TZID=America/Toronto:20250319T120000
DTEND;TZID=America/Toronto:20250319T130000
DTSTAMP:20260419T152308
CREATED:20241209T202121Z
LAST-MODIFIED:20250224T172404Z
UID:36771-1742385600-1742389200@www.daytradercanada.com
SUMMARY:WEBINAIRE GRATUIT SUR LES OPTIONS
DESCRIPTION:WEBINAIRE OPTIONS: les incontournables des marchés d’aujourd’hui. Ce webinaire vous informera sur les multiples facettes de l’utilisation de l’option\, autant en tant qu’instrument financier de rendement qu’outil de gestion de risques et de profits parfaitement adapté aux marchés volatils contemporains. \nInscription
URL:https://www.daytradercanada.com/evenement/webinaire-gratuit-sur-les-options-17/
LOCATION:En ligne
CATEGORIES:Webinaires
ATTACH;FMTTYPE=image/png:/wp-content/uploads/2022/11/dtdr_bann_webinaire_orange.png
ORGANIZER;CN="DayTrader Canada":MAILTO:reception@daytradercanada.com
END:VEVENT
END:VCALENDAR