BEGIN:VCALENDAR
VERSION:2.0
PRODID:-//DayTrader Canada - ECPv6.15.18//NONSGML v1.0//EN
CALSCALE:GREGORIAN
METHOD:PUBLISH
X-ORIGINAL-URL:https://www.daytradercanada.com
X-WR-CALDESC:Évènements pour DayTrader Canada
REFRESH-INTERVAL;VALUE=DURATION:PT1H
X-Robots-Tag:noindex
X-PUBLISHED-TTL:PT1H
BEGIN:VTIMEZONE
TZID:America/Toronto
BEGIN:DAYLIGHT
TZOFFSETFROM:-0500
TZOFFSETTO:-0400
TZNAME:EDT
DTSTART:20250309T070000
END:DAYLIGHT
BEGIN:STANDARD
TZOFFSETFROM:-0400
TZOFFSETTO:-0500
TZNAME:EST
DTSTART:20251102T060000
END:STANDARD
BEGIN:DAYLIGHT
TZOFFSETFROM:-0500
TZOFFSETTO:-0400
TZNAME:EDT
DTSTART:20260308T070000
END:DAYLIGHT
BEGIN:STANDARD
TZOFFSETFROM:-0400
TZOFFSETTO:-0500
TZNAME:EST
DTSTART:20261101T060000
END:STANDARD
BEGIN:DAYLIGHT
TZOFFSETFROM:-0500
TZOFFSETTO:-0400
TZNAME:EDT
DTSTART:20270314T070000
END:DAYLIGHT
BEGIN:STANDARD
TZOFFSETFROM:-0400
TZOFFSETTO:-0500
TZNAME:EST
DTSTART:20271107T060000
END:STANDARD
END:VTIMEZONE
BEGIN:VEVENT
DTSTART;TZID=America/Toronto:20260613T090000
DTEND;TZID=America/Toronto:20260615T163000
DTSTAMP:20260421T140953
CREATED:20250703T180300Z
LAST-MODIFIED:20251203T145526Z
UID:38059-1781341200-1781541000@www.daytradercanada.com
SUMMARY:COURS Options Négociateur & Investisseur Actif – 3 jours
DESCRIPTION:Options Négociateur & Investisseur Actif + est une formation avancée et accréditée sur l’analyse et la négociation d’options sur titres (actions et fonds négociés en bourse)\, comprenant une période de pratique en temps réel. \n\nCette formation est disponible en mode bimodal\, soit synchrone en ligne et en présentiel à l’Université de Sherbrooke\, campus de Longueuil.\n\nPour vous inscrire à la participation en direct et réserver votre date: \nInscription\nPour acheter cette formation: \nAcheter
URL:https://www.daytradercanada.com/evenement/cours-options-negociateur-investisseur-actif-3-jours-2/
LOCATION:Campus de Longueuil\, 150\, place Charles-Le Moyne C. P. 200\, Longueuil\, Québec\, J4K 0A8
CATEGORIES:Options Négociateur & Investisseur Actif
ATTACH;FMTTYPE=image/jpeg:/wp-content/uploads/2020/10/shutterstock_178709456-1024x576-1.jpg
ORGANIZER;CN="DayTrader Canada":MAILTO:reception@daytradercanada.com
END:VEVENT
END:VCALENDAR